BEGIN:VCALENDAR
VERSION:2.0
PRODID:-//Drupal: Date iCal//NONSGML kigkonsult.se iCalcreator 2.16.12//
METHOD:PUBLISH
X-WR-CALNAME;VALUE=TEXT:Ical
BEGIN:VTIMEZONE
TZID:America/New_York
BEGIN:STANDARD
DTSTART:20211107T020000
TZOFFSETFROM:-0400
TZOFFSETTO:-0500
TZNAME:EST
END:STANDARD
BEGIN:DAYLIGHT
DTSTART:20210314T020000
TZOFFSETFROM:-0500
TZOFFSETTO:-0400
TZNAME:EDT
END:DAYLIGHT
END:VTIMEZONE
BEGIN:VEVENT
UID:calendar.1391604.field_date.0@cpl.hks.harvard.edu
DTSTAMP:20210228T222659Z
DESCRIPTION:\n	Register Here\n\n\n\n	An Institute of Politics Forum event\, c
 o-sponsored by CPL\, W3D\, and the Women in Power Conference**Forum events
  are open to the public\, live-streamed on the IOP’s Facebook page – and\,
  as always\, guests must take questions from the audience.**\n\n\n\n	&nbsp\
 ;\n\n\n\n	The U.S. and the world are at an inflection point\, where resilie
 nt leadership and strategic reimaging of alliances\, competition\, and pow
 er are needed to rebuild at home and abroad. Former Secretary of State Mad
 eleine Albright\, with her steady voice of reason and analysis\, consisten
 tly warning of the dangers of fascism and championing the ideals of democr
 acy\, is a source of inspiration to women and girls around the world. Draw
 ing on her decades of experience\, Secretary Albright will discuss the lea
 dership qualities needed to face new diplomatic challenges of the 21st&nbs
 p\;century and share her reflections for aspiring public leaders seeking t
 o chart new leadership paths\, public service\, and cooperation in the yea
 rs ahead.&nbsp\; &nbsp\;FEATURING:Madeleine Albright\, U.S. Secretary of S
 tate (1997-2001)\; Chair\, Albright Stonebridge Group and Albright Capital
  ManagementMODERATED BY:Menat Bahnasy&nbsp\;AB 2022\, Student President\, 
 Institute of PoliticsAoibheann Thinnes MPP 2021\, Co-chair\, Women in Defe
 nse\, Diplomacy\, and Development (W3D)\, a student organization at HKS\n
 \n\n\n	_______________________________\n\n\n\n	This event is open to HKS stu
 dents\, faculty\, and staff. The session will be recorded\, and may be pos
 ted to YouTube and/or CPL's social media channels.&nbsp\;Attendees must re
 gister for this event using the registration link above. Persons with disa
 bilities who wish to request accommodation or who have questions about acc
 ess\, please contact&nbsp\;cpl_events@hks.harvard.edu&nbsp\;in advance of 
 the session.&nbsp\;\n\n\n\n	_______________________________\n\n\n\n	&nbsp\;
 \n\n\n\n	Register Here\n\n
DTSTART;TZID=America/New_York:20210308T180000
DTEND;TZID=America/New_York:20210308T190000
LAST-MODIFIED:20210226T162550Z
LOCATION:Zoom
SUMMARY:The Future of Diplomacy is Female: A Conversation with Secretary Ma
 deleine Albright
URL;TYPE=URI:https://cpl.hks.harvard.edu/event/future-diplomacy-female-conv
 ersation-secretary-madeleine-albright
END:VEVENT
END:VCALENDAR
