BEGIN:VCALENDAR
VERSION:2.0
PRODID:-//Drupal: Date iCal//NONSGML kigkonsult.se iCalcreator 2.16.12//
METHOD:PUBLISH
X-WR-CALNAME;VALUE=TEXT:Ical
BEGIN:VTIMEZONE
TZID:America/New_York
BEGIN:STANDARD
DTSTART:20211107T020000
TZOFFSETFROM:-0400
TZOFFSETTO:-0500
TZNAME:EST
END:STANDARD
BEGIN:DAYLIGHT
DTSTART:20210314T020000
TZOFFSETFROM:-0500
TZOFFSETTO:-0400
TZNAME:EDT
END:DAYLIGHT
END:VTIMEZONE
BEGIN:VEVENT
UID:calendar.1391532.field_date.0@cpl.hks.harvard.edu
DTSTAMP:20210228T201701Z
DESCRIPTION:\n	Co-sponsored by the Latinx Caucus\, an HKS Student Organizati
 on\n\n\n\n	Register Here\n\n\n\n	As the Biden Administration continues to ro
 ll out its ambitious immigration agenda\, including the&nbsp\;U.S. Citizen
 ship Act of 2021\, Paola Ramos will moderate a panel conversation to get a
 n inside look at the Administration's first 100 days in office\, the fate 
 of immigration reform and its implications for the 11 million undocumented
  immigrants in the U.S. See below for more about each panelist.\n\n\n\n	MOD
 ERATORPaola Ramos\, Correspondent\, VICE and VICE News\; Contributor\, Tel
 emundo News and MSNBC\; Hauser Leader\, Center for Public LeadershipPANELI
 STS:Emmy Ruiz\, White House Director for Political Strategy and OutreachAs
 trid Silva\, Executive Director\, Dream Big Nevada&nbsp\;\n\n\n\n	MORE ABOU
 T THE SPEAKERSPaola Ramos&nbsp\;is&nbsp\;an author\, Emmy-award winning jo
 urnalist and Latinx advocate. She is a host for&nbsp\;VICE&nbsp\;and&nbsp\
 ;VICE News\, as well as a contributor for MSNBC and Telemundo News. Ramos 
 uses these multi-media platforms --in both English and Spanish--to uplift 
 the voices of marginalized communities\, break down stereotypes and mobili
 ze people towards civic engagement.&nbsp\;Click here to learn more about P
 aola.\n\n\n\n	Emmy Ruiz&nbsp\;currently serves as White House Director of P
 olitical Strategy &amp\; Outreach for the Biden-Harris administration. She
  is a former campaign aide to Vice President-Elect Kamala D. Harris\, Secr
 etary Hillary Clinton\, President Barack Obama\, and Democratic Chairman T
 om Perez. She is a co-founder and partner of NEWCO Strategies\, a minority
 -majority political firm.&nbsp\;Click here to see Emmy's latest.\n\n\n\n	As
 trid Silva&nbsp\;is the executive director of Dream Big Nevada\, an organi
 zation inspired by DREAM Big Vegas. She raises her voice and empowers othe
 rs so that together they can achieve their goal – keeping families\, like 
 hers\, together. Astrid&nbsp\;was named a rising Civil Rights leader by th
 e Los Angeles Times and&nbsp\;delivered the first Spanish language Democra
 tic response to President Trump’s first speech to Congress in 2017.&nbsp\;
 Click here to learn more about Astrid.\n\n
DTSTART;TZID=America/New_York:20210311T190000
DTEND;TZID=America/New_York:20210311T200000
LAST-MODIFIED:20210226T194656Z
LOCATION:Virtual Event
SUMMARY:First 100 Days: Biden's Immigration Agenda
URL;TYPE=URI:https://cpl.hks.harvard.edu/event/first-100-days-bidens-immigr
 ation-agenda
END:VEVENT
END:VCALENDAR
